Package: SQLDataFrame Version: 1.8.0 Command: /Library/Frameworks/R.framework/Resources/bin/R CMD check --install=check:SQLDataFrame.install-out.txt --library=/Library/Frameworks/R.framework/Resources/library --no-vignettes --timings SQLDataFrame_1.8.0.tar.gz StartedAt: 2022-04-12 19:00:36 -0400 (Tue, 12 Apr 2022) EndedAt: 2022-04-12 19:02:54 -0400 (Tue, 12 Apr 2022) EllapsedTime: 137.6 seconds RetCode: 0 Status: WARNINGS CheckDir: SQLDataFrame.Rcheck Warnings: 1