Package: SPsimSeq Version: 1.4.0 Command: rm -rf SPsimSeq.buildbin-libdir && mkdir SPsimSeq.buildbin-libdir && /Users/biocbuild/BBS/utils/build-universal.sh SPsimSeq_1.4.0.tar.gz /Library/Frameworks/R.framework/Resources/bin/R SPsimSeq.buildbin-libdir StartedAt: 2022-04-12 21:33:27 -0400 (Tue, 12 Apr 2022) EndedAt: 2022-04-12 21:34:35 -0400 (Tue, 12 Apr 2022) EllapsedTime: 67.7 seconds RetCode: 0 Status: OK PackageFile: SPsimSeq_1.4.0.tgz PackageFileSize: 991 KiB