Package: SGSeq
Version: 1.28.0
Command: C:\cygwin\bin\curl.exe -O http://155.52.207.166/BBS/3.14/bioc/src/contrib/SGSeq_1.28.0.tar.gz && rm -rf SGSeq.buildbin-libdir && mkdir SGSeq.buildbin-libdir && C:\Users\biocbuild\bbs-3.14-bioc\R\bin\R.exe CMD INSTALL --merge-multiarch --build --library=SGSeq.buildbin-libdir SGSeq_1.28.0.tar.gz && C:\Users\biocbuild\bbs-3.14-bioc\R\bin\R.exe CMD INSTALL SGSeq_1.28.0.zip && rm SGSeq_1.28.0.tar.gz SGSeq_1.28.0.zip
StartedAt: 2022-04-12 06:11:58 -0400 (Tue, 12 Apr 2022)
EndedAt: 2022-04-12 06:14:22 -0400 (Tue, 12 Apr 2022)
EllapsedTime: 144.8 seconds
RetCode: 0
Status: OK