Package: SELEX Version: 1.26.0 Command: /home/biocbuild/bbs-3.14-bioc/R/bin/R CMD build --keep-empty-dirs --no-resave-data SELEX StartedAt: 2022-04-12 05:53:40 -0400 (Tue, 12 Apr 2022) EndedAt: 2022-04-12 05:54:01 -0400 (Tue, 12 Apr 2022) EllapsedTime: 20.7 seconds RetCode: 0 Status: OK PackageFile: SELEX_1.26.0.tar.gz PackageFileSize: 3.944 MiB