Package: SDAMS Version: 1.14.0 Command: /home/biocbuild/bbs-3.14-bioc/R/bin/R CMD INSTALL SDAMS StartedAt: 2022-04-12 03:23:03 -0400 (Tue, 12 Apr 2022) EndedAt: 2022-04-12 03:23:27 -0400 (Tue, 12 Apr 2022) EllapsedTime: 24.6 seconds RetCode: 0 Status: OK