Package: SDAMS Version: 1.14.0 Command: /home/biocbuild/bbs-3.14-bioc/R/bin/R CMD build --keep-empty-dirs --no-resave-data SDAMS StartedAt: 2022-04-12 05:53:25 -0400 (Tue, 12 Apr 2022) EndedAt: 2022-04-12 05:54:11 -0400 (Tue, 12 Apr 2022) EllapsedTime: 45.5 seconds RetCode: 0 Status: OK PackageFile: SDAMS_1.14.0.tar.gz PackageFileSize: 1.135 MiB