Package: S4Vectors Version: 0.32.4 Command: /Library/Frameworks/R.framework/Resources/bin/R CMD INSTALL S4Vectors StartedAt: 2022-04-12 03:17:31 -0400 (Tue, 12 Apr 2022) EndedAt: 2022-04-12 03:18:17 -0400 (Tue, 12 Apr 2022) EllapsedTime: 46.9 seconds RetCode: 0 Status: OK