Package: Rsamtools Version: 2.10.0 Command: rm -rf Rsamtools.buildbin-libdir && mkdir Rsamtools.buildbin-libdir && /Users/biocbuild/BBS/utils/build-universal.sh Rsamtools_2.10.0.tar.gz /Library/Frameworks/R.framework/Resources/bin/R Rsamtools.buildbin-libdir StartedAt: 2022-04-12 21:24:08 -0400 (Tue, 12 Apr 2022) EndedAt: 2022-04-12 21:25:27 -0400 (Tue, 12 Apr 2022) EllapsedTime: 78.2 seconds RetCode: 0 Status: OK PackageFile: Rsamtools_2.10.0.tgz PackageFileSize: 3.782 MiB