Package: Rhtslib Version: 1.26.0 Command: /home/biocbuild/bbs-3.14-bioc/R/bin/R CMD check --install=check:Rhtslib.install-out.txt --library=/home/biocbuild/bbs-3.14-bioc/R/library --no-vignettes --timings Rhtslib_1.26.0.tar.gz StartedAt: 2022-04-12 09:02:52 -0400 (Tue, 12 Apr 2022) EndedAt: 2022-04-12 09:03:05 -0400 (Tue, 12 Apr 2022) EllapsedTime: 13.6 seconds RetCode: 0 Status: WARNINGS CheckDir: Rhtslib.Rcheck Warnings: 1