Package: Rhdf5lib Version: 1.16.0 Command: chmod a+r Rhdf5lib -R && C:\Users\biocbuild\bbs-3.14-bioc\R\bin\R.exe CMD build --keep-empty-dirs --no-resave-data Rhdf5lib StartedAt: 2022-04-12 13:40:43 -0400 (Tue, 12 Apr 2022) EndedAt: 2022-04-12 13:41:59 -0400 (Tue, 12 Apr 2022) EllapsedTime: 75.8 seconds RetCode: 0 Status: OK PackageFile: Rhdf5lib_1.16.0.tar.gz PackageFileSize: 9.527 MiB