Package: RbcBook1 Version: 1.62.0 Command: /home/biocbuild/bbs-3.14-bioc/R/bin/R CMD check --install=check:RbcBook1.install-out.txt --library=/home/biocbuild/bbs-3.14-bioc/R/library --no-vignettes --timings RbcBook1_1.62.0.tar.gz StartedAt: 2022-04-12 08:56:48 -0400 (Tue, 12 Apr 2022) EndedAt: 2022-04-12 08:57:16 -0400 (Tue, 12 Apr 2022) EllapsedTime: 27.9 seconds RetCode: 0 Status: OK CheckDir: RbcBook1.Rcheck Warnings: 0