Package: RTCGAToolbox Version: 2.24.0 Command: /Library/Frameworks/R.framework/Resources/bin/R CMD check --install=check:RTCGAToolbox.install-out.txt --library=/Library/Frameworks/R.framework/Resources/library --no-vignettes --timings RTCGAToolbox_2.24.0.tar.gz StartedAt: 2022-04-12 17:55:13 -0400 (Tue, 12 Apr 2022) EndedAt: 2022-04-12 17:59:36 -0400 (Tue, 12 Apr 2022) EllapsedTime: 262.8 seconds RetCode: 0 Status: OK CheckDir: RTCGAToolbox.Rcheck Warnings: 0