Package: ROntoTools Version: 2.22.0 Command: chmod a+r ROntoTools -R && C:\Users\biocbuild\bbs-3.14-bioc\R\bin\R.exe CMD build --keep-empty-dirs --no-resave-data ROntoTools StartedAt: 2022-04-12 13:50:22 -0400 (Tue, 12 Apr 2022) EndedAt: 2022-04-12 13:51:16 -0400 (Tue, 12 Apr 2022) EllapsedTime: 54.1 seconds RetCode: 0 Status: OK PackageFile: ROntoTools_2.22.0.tar.gz PackageFileSize: 1.384 MiB