Package: ROCpAI Version: 1.6.0 Command: /home/biocbuild/bbs-3.14-bioc/R/bin/R CMD check --install=check:ROCpAI.install-out.txt --library=/home/biocbuild/bbs-3.14-bioc/R/library --no-vignettes --timings ROCpAI_1.6.0.tar.gz StartedAt: 2022-04-12 09:07:21 -0400 (Tue, 12 Apr 2022) EndedAt: 2022-04-12 09:09:09 -0400 (Tue, 12 Apr 2022) EllapsedTime: 107.6 seconds RetCode: 0 Status: OK CheckDir: ROCpAI.Rcheck Warnings: 0