Package: RNAdecay Version: 1.14.0 Command: rm -rf RNAdecay.buildbin-libdir && mkdir RNAdecay.buildbin-libdir && /Users/biocbuild/BBS/utils/build-universal.sh RNAdecay_1.14.0.tar.gz /Library/Frameworks/R.framework/Resources/bin/R RNAdecay.buildbin-libdir StartedAt: 2022-04-12 21:22:14 -0400 (Tue, 12 Apr 2022) EndedAt: 2022-04-12 21:31:12 -0400 (Tue, 12 Apr 2022) EllapsedTime: 538.4 seconds RetCode: 0 Status: OK PackageFile: RNAdecay_1.14.0.tgz PackageFileSize: 5.403 MiB