Package: Qtlizer Version: 1.8.1 Command: /Library/Frameworks/R.framework/Resources/bin/R CMD check --install=check:Qtlizer.install-out.txt --library=/Library/Frameworks/R.framework/Resources/library --no-vignettes --timings Qtlizer_1.8.1.tar.gz StartedAt: 2022-04-12 17:12:10 -0400 (Tue, 12 Apr 2022) EndedAt: 2022-04-12 17:12:49 -0400 (Tue, 12 Apr 2022) EllapsedTime: 39.4 seconds RetCode: 0 Status: OK CheckDir: Qtlizer.Rcheck Warnings: 0