Package: PrInCE Version: 1.10.0 Command: /Library/Frameworks/R.framework/Resources/bin/R CMD INSTALL PrInCE StartedAt: 2022-04-12 03:51:40 -0400 (Tue, 12 Apr 2022) EndedAt: 2022-04-12 03:52:31 -0400 (Tue, 12 Apr 2022) EllapsedTime: 51.1 seconds RetCode: 0 Status: OK