Package: Pi Version: 2.6.0 Command: /home/biocbuild/bbs-3.14-bioc/R/bin/R CMD INSTALL Pi StartedAt: 2022-04-12 03:34:01 -0400 (Tue, 12 Apr 2022) EndedAt: 2022-04-12 03:34:31 -0400 (Tue, 12 Apr 2022) EllapsedTime: 29.9 seconds RetCode: 0 Status: OK