Package: PhenStat Version: 2.30.0 Command: chmod a+r PhenStat -R && C:\Users\biocbuild\bbs-3.14-bioc\R\bin\R.exe CMD build --keep-empty-dirs --no-resave-data PhenStat StartedAt: 2022-04-12 13:02:49 -0400 (Tue, 12 Apr 2022) EndedAt: 2022-04-12 13:03:53 -0400 (Tue, 12 Apr 2022) EllapsedTime: 64.0 seconds RetCode: 0 Status: OK PackageFile: PhenStat_2.30.0.tar.gz PackageFileSize: 728 KiB