Package: PFP Version: 1.2.0 Command: /home/biocbuild/bbs-3.14-bioc/R/bin/R CMD build --keep-empty-dirs --no-resave-data PFP StartedAt: 2022-04-12 05:22:53 -0400 (Tue, 12 Apr 2022) EndedAt: 2022-04-12 05:23:56 -0400 (Tue, 12 Apr 2022) EllapsedTime: 62.3 seconds RetCode: 0 Status: OK PackageFile: PFP_1.2.0.tar.gz PackageFileSize: 1.222 MiB