Package: PCAN Version: 1.22.0 Command: /home/biocbuild/bbs-3.14-bioc/R/bin/R CMD INSTALL PCAN StartedAt: 2022-04-12 03:19:48 -0400 (Tue, 12 Apr 2022) EndedAt: 2022-04-12 03:19:51 -0400 (Tue, 12 Apr 2022) EllapsedTime: 2.4 seconds RetCode: 0 Status: OK