Package: OPWeight Version: 1.16.0 Command: rm -rf OPWeight.buildbin-libdir && mkdir OPWeight.buildbin-libdir && /Users/biocbuild/BBS/utils/build-universal.sh OPWeight_1.16.0.tar.gz /Library/Frameworks/R.framework/Resources/bin/R OPWeight.buildbin-libdir StartedAt: 2022-04-12 21:10:28 -0400 (Tue, 12 Apr 2022) EndedAt: 2022-04-12 21:10:38 -0400 (Tue, 12 Apr 2022) EllapsedTime: 9.4 seconds RetCode: 0 Status: OK PackageFile: OPWeight_1.16.0.tgz PackageFileSize: 484.2 KiB