Package: OMICsPCA Version: 1.12.0 Command: chmod a+r OMICsPCA -R && C:\Users\biocbuild\bbs-3.14-bioc\R\bin\R.exe CMD build --keep-empty-dirs --no-resave-data OMICsPCA StartedAt: 2022-04-12 12:33:15 -0400 (Tue, 12 Apr 2022) EndedAt: 2022-04-12 13:00:03 -0400 (Tue, 12 Apr 2022) EllapsedTime: 1608.1 seconds RetCode: 0 Status: OK PackageFile: OMICsPCA_1.12.0.tar.gz PackageFileSize: 1.559 MiB