Package: OMICsPCA Version: 1.12.0 Command: rm -rf OMICsPCA.buildbin-libdir && mkdir OMICsPCA.buildbin-libdir && C:\Users\biocbuild\bbs-3.14-bioc\R\bin\R.exe CMD INSTALL --merge-multiarch --build --library=OMICsPCA.buildbin-libdir OMICsPCA_1.12.0.tar.gz StartedAt: 2022-04-13 06:44:28 -0400 (Wed, 13 Apr 2022) EndedAt: 2022-04-13 06:45:41 -0400 (Wed, 13 Apr 2022) EllapsedTime: 73.0 seconds RetCode: 0 Status: OK PackageFile: OMICsPCA_1.12.0.zip PackageFileSize: 1.677 MiB