Package: OMICsPCA Version: 1.12.0 Command: /home/biocbuild/bbs-3.14-bioc/R/bin/R CMD INSTALL OMICsPCA StartedAt: 2022-04-12 03:46:03 -0400 (Tue, 12 Apr 2022) EndedAt: 2022-04-12 03:46:48 -0400 (Tue, 12 Apr 2022) EllapsedTime: 44.5 seconds RetCode: 0 Status: OK