Package: OMICsPCA Version: 1.12.0 Command: /Library/Frameworks/R.framework/Resources/bin/R CMD build --keep-empty-dirs --no-resave-data OMICsPCA StartedAt: 2022-04-12 07:34:26 -0400 (Tue, 12 Apr 2022) EndedAt: 2022-04-12 07:39:15 -0400 (Tue, 12 Apr 2022) EllapsedTime: 288.2 seconds RetCode: 0 Status: OK PackageFile: OMICsPCA_1.12.0.tar.gz PackageFileSize: 4.438 MiB