Package: OMICsPCA Version: 1.12.0 Command: rm -rf OMICsPCA.buildbin-libdir && mkdir OMICsPCA.buildbin-libdir && /Users/biocbuild/BBS/utils/build-universal.sh OMICsPCA_1.12.0.tar.gz /Library/Frameworks/R.framework/Resources/bin/R OMICsPCA.buildbin-libdir StartedAt: 2022-04-12 21:09:46 -0400 (Tue, 12 Apr 2022) EndedAt: 2022-04-12 21:11:12 -0400 (Tue, 12 Apr 2022) EllapsedTime: 86.0 seconds RetCode: 0 Status: OK PackageFile: OMICsPCA_1.12.0.tgz PackageFileSize: 4.521 MiB