Package: NuPoP Version: 2.2.0 Command: /Library/Frameworks/R.framework/Resources/bin/R CMD check --install=check:NuPoP.install-out.txt --library=/Library/Frameworks/R.framework/Resources/library --no-vignettes --timings NuPoP_2.2.0.tar.gz StartedAt: 2022-04-12 16:13:51 -0400 (Tue, 12 Apr 2022) EndedAt: 2022-04-12 16:14:43 -0400 (Tue, 12 Apr 2022) EllapsedTime: 52.0 seconds RetCode: 0 Status: OK CheckDir: NuPoP.Rcheck Warnings: 0