Package: NewWave Version: 1.4.0 Command: /Library/Frameworks/R.framework/Resources/bin/R CMD INSTALL NewWave StartedAt: 2022-04-12 03:39:39 -0400 (Tue, 12 Apr 2022) EndedAt: 2022-04-12 03:40:19 -0400 (Tue, 12 Apr 2022) EllapsedTime: 39.3 seconds RetCode: 0 Status: OK