Package: NewWave Version: 1.4.0 Command: rm -rf NewWave.buildbin-libdir && mkdir NewWave.buildbin-libdir && /Users/biocbuild/BBS/utils/build-universal.sh NewWave_1.4.0.tar.gz /Library/Frameworks/R.framework/Resources/bin/R NewWave.buildbin-libdir StartedAt: 2022-04-12 21:08:29 -0400 (Tue, 12 Apr 2022) EndedAt: 2022-04-12 21:09:13 -0400 (Tue, 12 Apr 2022) EllapsedTime: 43.9 seconds RetCode: 0 Status: OK PackageFile: NewWave_1.4.0.tgz PackageFileSize: 387.5 KiB