Package: NOISeq Version: 2.38.0 Command: rm -rf NOISeq.buildbin-libdir && mkdir NOISeq.buildbin-libdir && /Users/biocbuild/BBS/utils/build-universal.sh NOISeq_2.38.0.tar.gz /Library/Frameworks/R.framework/Resources/bin/R NOISeq.buildbin-libdir StartedAt: 2022-04-12 21:08:39 -0400 (Tue, 12 Apr 2022) EndedAt: 2022-04-12 21:09:02 -0400 (Tue, 12 Apr 2022) EllapsedTime: 22.7 seconds RetCode: 0 Status: OK PackageFile: NOISeq_2.38.0.tgz PackageFileSize: 2.311 MiB