Package: MungeSumstats Version: 1.2.4 Command: /home/biocbuild/bbs-3.14-bioc/R/bin/R CMD build --keep-empty-dirs --no-resave-data MungeSumstats StartedAt: 2022-04-12 05:07:36 -0400 (Tue, 12 Apr 2022) EndedAt: 2022-04-12 05:08:28 -0400 (Tue, 12 Apr 2022) EllapsedTime: 52.7 seconds RetCode: 0 Status: OK PackageFile: MungeSumstats_1.2.4.tar.gz PackageFileSize: 2.737 MiB