Package: MungeSumstats Version: 1.2.4 Command: /Library/Frameworks/R.framework/Resources/bin/R CMD check --install=check:MungeSumstats.install-out.txt --library=/Library/Frameworks/R.framework/Resources/library --no-vignettes --timings MungeSumstats_1.2.4.tar.gz StartedAt: 2022-04-12 15:57:31 -0400 (Tue, 12 Apr 2022) EndedAt: 2022-04-12 16:19:51 -0400 (Tue, 12 Apr 2022) EllapsedTime: 1339.6 seconds RetCode: 0 Status: OK CheckDir: MungeSumstats.Rcheck Warnings: 0