Package: MsFeatures Version: 1.2.0 Command: C:\Users\biocbuild\bbs-3.14-bioc\R\bin\R.exe CMD check --force-multiarch --install=check:MsFeatures.install-out.txt --library=C:\Users\biocbuild\bbs-3.14-bioc\R\library --no-vignettes --timings MsFeatures_1.2.0.tar.gz StartedAt: 2022-04-12 23:17:56 -0400 (Tue, 12 Apr 2022) EndedAt: 2022-04-12 23:21:25 -0400 (Tue, 12 Apr 2022) EllapsedTime: 209.5 seconds RetCode: 0 Status: OK CheckDir: MsFeatures.Rcheck Warnings: 0