Package: MsCoreUtils Version: 1.6.2 Command: C:\cygwin\bin\curl.exe -O http://155.52.207.166/BBS/3.14/bioc/src/contrib/MsCoreUtils_1.6.2.tar.gz && rm -rf MsCoreUtils.buildbin-libdir && mkdir MsCoreUtils.buildbin-libdir && C:\Users\biocbuild\bbs-3.14-bioc\R\bin\R.exe CMD INSTALL --merge-multiarch --build --library=MsCoreUtils.buildbin-libdir MsCoreUtils_1.6.2.tar.gz && C:\Users\biocbuild\bbs-3.14-bioc\R\bin\R.exe CMD INSTALL MsCoreUtils_1.6.2.zip && rm MsCoreUtils_1.6.2.tar.gz MsCoreUtils_1.6.2.zip StartedAt: 2022-04-12 04:23:44 -0400 (Tue, 12 Apr 2022) EndedAt: 2022-04-12 04:25:18 -0400 (Tue, 12 Apr 2022) EllapsedTime: 94.2 seconds RetCode: 0 Status: OK