Package: MsBackendMgf Version: 1.2.0 Command: /Library/Frameworks/R.framework/Resources/bin/R CMD build --keep-empty-dirs --no-resave-data MsBackendMgf StartedAt: 2022-04-12 07:17:45 -0400 (Tue, 12 Apr 2022) EndedAt: 2022-04-12 07:18:13 -0400 (Tue, 12 Apr 2022) EllapsedTime: 28.3 seconds RetCode: 0 Status: OK PackageFile: MsBackendMgf_1.2.0.tar.gz PackageFileSize: 310.3 KiB