Package: MinimumDistance Version: 1.38.0 Command: /Library/Frameworks/R.framework/Resources/bin/R CMD check --install=check:MinimumDistance.install-out.txt --library=/Library/Frameworks/R.framework/Resources/library --no-vignettes --timings MinimumDistance_1.38.0.tar.gz StartedAt: 2022-04-12 15:31:11 -0400 (Tue, 12 Apr 2022) EndedAt: 2022-04-12 15:38:07 -0400 (Tue, 12 Apr 2022) EllapsedTime: 416.5 seconds RetCode: 0 Status: WARNINGS CheckDir: MinimumDistance.Rcheck Warnings: 5