Package: MethTargetedNGS Version: 1.26.0 Command: C:\Users\biocbuild\bbs-3.14-bioc\R\bin\R.exe CMD check --force-multiarch --install=check:MethTargetedNGS.install-out.txt --library=C:\Users\biocbuild\bbs-3.14-bioc\R\library --no-vignettes --timings MethTargetedNGS_1.26.0.tar.gz StartedAt: 2022-04-12 22:39:05 -0400 (Tue, 12 Apr 2022) EndedAt: 2022-04-12 22:41:21 -0400 (Tue, 12 Apr 2022) EllapsedTime: 136.5 seconds RetCode: 0 Status: OK CheckDir: MethTargetedNGS.Rcheck Warnings: 0