Package: MethTargetedNGS Version: 1.26.0 Command: rm -rf MethTargetedNGS.buildbin-libdir && mkdir MethTargetedNGS.buildbin-libdir && C:\Users\biocbuild\bbs-3.14-bioc\R\bin\R.exe CMD INSTALL --merge-multiarch --build --library=MethTargetedNGS.buildbin-libdir MethTargetedNGS_1.26.0.tar.gz StartedAt: 2022-04-13 06:34:38 -0400 (Wed, 13 Apr 2022) EndedAt: 2022-04-13 06:34:57 -0400 (Wed, 13 Apr 2022) EllapsedTime: 19.2 seconds RetCode: 0 Status: OK PackageFile: MethTargetedNGS_1.26.0.zip PackageFileSize: 244.6 KiB