Package: MethTargetedNGS Version: 1.26.0 Command: /Library/Frameworks/R.framework/Resources/bin/R CMD build --keep-empty-dirs --no-resave-data MethTargetedNGS StartedAt: 2022-04-12 07:03:26 -0400 (Tue, 12 Apr 2022) EndedAt: 2022-04-12 07:04:03 -0400 (Tue, 12 Apr 2022) EllapsedTime: 36.3 seconds RetCode: 0 Status: OK PackageFile: MethTargetedNGS_1.26.0.tar.gz PackageFileSize: 195.2 KiB