Package: MetaboSignal Version: 1.24.0 Command: /Library/Frameworks/R.framework/Resources/bin/R CMD check --install=check:MetaboSignal.install-out.txt --library=/Library/Frameworks/R.framework/Resources/library --no-vignettes --timings MetaboSignal_1.24.0.tar.gz StartedAt: 2022-04-12 15:10:58 -0400 (Tue, 12 Apr 2022) EndedAt: 2022-04-12 15:18:39 -0400 (Tue, 12 Apr 2022) EllapsedTime: 461.8 seconds RetCode: 1 Status: ERROR CheckDir: MetaboSignal.Rcheck Warnings: NA