Package: MetaNeighbor Version: 1.14.0 Command: rm -rf MetaNeighbor.buildbin-libdir && mkdir MetaNeighbor.buildbin-libdir && /Users/biocbuild/BBS/utils/build-universal.sh MetaNeighbor_1.14.0.tar.gz /Library/Frameworks/R.framework/Resources/bin/R MetaNeighbor.buildbin-libdir StartedAt: 2022-04-12 21:00:07 -0400 (Tue, 12 Apr 2022) EndedAt: 2022-04-12 21:00:35 -0400 (Tue, 12 Apr 2022) EllapsedTime: 28.5 seconds RetCode: 0 Status: OK PackageFile: MetaNeighbor_1.14.0.tgz PackageFileSize: 7.594 MiB