Package: MesKit Version: 1.4.0 Command: chmod a+r MesKit -R && C:\Users\biocbuild\bbs-3.14-bioc\R\bin\R.exe CMD build --keep-empty-dirs --no-resave-data MesKit StartedAt: 2022-04-12 11:51:06 -0400 (Tue, 12 Apr 2022) EndedAt: 2022-04-12 11:53:53 -0400 (Tue, 12 Apr 2022) EllapsedTime: 167.6 seconds RetCode: 0 Status: OK PackageFile: MesKit_1.4.0.tar.gz PackageFileSize: 2.482 MiB