Package: MatrixQCvis Version: 1.2.4 Command: chmod a+r MatrixQCvis -R && C:\Users\biocbuild\bbs-3.14-bioc\R\bin\R.exe CMD build --keep-empty-dirs --no-resave-data MatrixQCvis StartedAt: 2022-04-12 11:45:35 -0400 (Tue, 12 Apr 2022) EndedAt: 2022-04-12 11:46:52 -0400 (Tue, 12 Apr 2022) EllapsedTime: 77.2 seconds RetCode: 0 Status: OK PackageFile: MatrixQCvis_1.2.4.tar.gz PackageFileSize: 1.205 MiB