Package: MassArray Version: 1.46.0 Command: /Library/Frameworks/R.framework/Resources/bin/R CMD check --install=check:MassArray.install-out.txt --library=/Library/Frameworks/R.framework/Resources/library --no-vignettes --timings MassArray_1.46.0.tar.gz StartedAt: 2022-04-12 15:00:03 -0400 (Tue, 12 Apr 2022) EndedAt: 2022-04-12 15:01:18 -0400 (Tue, 12 Apr 2022) EllapsedTime: 75.7 seconds RetCode: 0 Status: OK CheckDir: MassArray.Rcheck Warnings: 0