Package: MantelCorr Version: 1.64.0 Command: chmod a+r MantelCorr -R && C:\Users\biocbuild\bbs-3.14-bioc\R\bin\R.exe CMD build --keep-empty-dirs --no-resave-data MantelCorr StartedAt: 2022-04-12 11:43:27 -0400 (Tue, 12 Apr 2022) EndedAt: 2022-04-12 11:43:43 -0400 (Tue, 12 Apr 2022) EllapsedTime: 15.6 seconds RetCode: 0 Status: OK PackageFile: MantelCorr_1.64.0.tar.gz PackageFileSize: 812.5 KiB