Package: Maaslin2 Version: 1.8.0 Command: /Library/Frameworks/R.framework/Resources/bin/R CMD INSTALL Maaslin2 StartedAt: 2022-04-12 03:58:59 -0400 (Tue, 12 Apr 2022) EndedAt: 2022-04-12 03:59:13 -0400 (Tue, 12 Apr 2022) EllapsedTime: 14.9 seconds RetCode: 0 Status: OK