Package: MWASTools Version: 1.18.0 Command: /Library/Frameworks/R.framework/Resources/bin/R CMD INSTALL MWASTools StartedAt: 2022-04-12 03:51:58 -0400 (Tue, 12 Apr 2022) EndedAt: 2022-04-12 03:52:55 -0400 (Tue, 12 Apr 2022) EllapsedTime: 57.1 seconds RetCode: 0 Status: OK