Package: MSstatsSampleSize Version: 1.8.0 Command: C:\cygwin\bin\curl.exe -O http://155.52.207.166/BBS/3.14/bioc/src/contrib/MSstatsSampleSize_1.8.0.tar.gz && rm -rf MSstatsSampleSize.buildbin-libdir && mkdir MSstatsSampleSize.buildbin-libdir && C:\Users\biocbuild\bbs-3.14-bioc\R\bin\R.exe CMD INSTALL --merge-multiarch --build --library=MSstatsSampleSize.buildbin-libdir MSstatsSampleSize_1.8.0.tar.gz && C:\Users\biocbuild\bbs-3.14-bioc\R\bin\R.exe CMD INSTALL MSstatsSampleSize_1.8.0.zip && rm MSstatsSampleSize_1.8.0.tar.gz MSstatsSampleSize_1.8.0.zip StartedAt: 2022-04-12 06:53:32 -0400 (Tue, 12 Apr 2022) EndedAt: 2022-04-12 06:54:32 -0400 (Tue, 12 Apr 2022) EllapsedTime: 59.7 seconds RetCode: 0 Status: OK