Package: MSstatsConvert Version: 1.4.1 Command: C:\cygwin\bin\curl.exe -O http://155.52.207.166/BBS/3.14/bioc/src/contrib/MSstatsConvert_1.4.1.tar.gz && rm -rf MSstatsConvert.buildbin-libdir && mkdir MSstatsConvert.buildbin-libdir && C:\Users\biocbuild\bbs-3.14-bioc\R\bin\R.exe CMD INSTALL --merge-multiarch --build --library=MSstatsConvert.buildbin-libdir MSstatsConvert_1.4.1.tar.gz && C:\Users\biocbuild\bbs-3.14-bioc\R\bin\R.exe CMD INSTALL MSstatsConvert_1.4.1.zip && rm MSstatsConvert_1.4.1.tar.gz MSstatsConvert_1.4.1.zip StartedAt: 2022-04-12 04:11:27 -0400 (Tue, 12 Apr 2022) EndedAt: 2022-04-12 04:15:19 -0400 (Tue, 12 Apr 2022) EllapsedTime: 231.5 seconds RetCode: 0 Status: OK